BEGIN:VCALENDAR
VERSION:2.0
PRODID:-//https://www.londonwomenchess.org.uk - ECPv6.15.20//NONSGML v1.0//EN
CALSCALE:GREGORIAN
METHOD:PUBLISH
X-WR-CALNAME:https://www.londonwomenchess.org.uk
X-ORIGINAL-URL:https://www.londonwomenchess.org.uk
X-WR-CALDESC:Events for https://www.londonwomenchess.org.uk
REFRESH-INTERVAL;VALUE=DURATION:PT1H
X-Robots-Tag:noindex
X-PUBLISHED-TTL:PT1H
BEGIN:VTIMEZONE
TZID:Europe/London
BEGIN:DAYLIGHT
TZOFFSETFROM:+0000
TZOFFSETTO:+0100
TZNAME:BST
DTSTART:20230326T010000
END:DAYLIGHT
BEGIN:STANDARD
TZOFFSETFROM:+0100
TZOFFSETTO:+0000
TZNAME:GMT
DTSTART:20231029T010000
END:STANDARD
BEGIN:DAYLIGHT
TZOFFSETFROM:+0000
TZOFFSETTO:+0100
TZNAME:BST
DTSTART:20240331T010000
END:DAYLIGHT
BEGIN:STANDARD
TZOFFSETFROM:+0100
TZOFFSETTO:+0000
TZNAME:GMT
DTSTART:20241027T010000
END:STANDARD
BEGIN:DAYLIGHT
TZOFFSETFROM:+0000
TZOFFSETTO:+0100
TZNAME:BST
DTSTART:20250330T010000
END:DAYLIGHT
BEGIN:STANDARD
TZOFFSETFROM:+0100
TZOFFSETTO:+0000
TZNAME:GMT
DTSTART:20251026T010000
END:STANDARD
END:VTIMEZONE
BEGIN:VEVENT
DTSTART;TZID=Europe/London:20241004T183000
DTEND;TZID=Europe/London:20241004T220000
DTSTAMP:20260423T185339
CREATED:20240921T204544Z
LAST-MODIFIED:20240921T204853Z
UID:1843-1728066600-1728079200@www.londonwomenchess.org.uk
SUMMARY:Social Chess Party
DESCRIPTION:Join Us for an Engaging Chess Social Evening! \n\n\n\nWe're excited to host an open social event in collaboration with Grandmaster Lorin D'Costa\, founder of SPTW and the Hammersmith Chess Club. Bring along your friends and partners to connect\, socialize\, and enjoy friendly games of chess in a welcoming atmosphere. Whether you're a seasoned player or new to the game\, this is the perfect opportunity to meet fellow enthusiasts\, share strategies\, and have fun together. Don't miss out on an evening of camaraderie and chess! Donation
URL:https://www.londonwomenchess.org.uk/event/social-chess-party/
LOCATION:Lillington Gardens Community Centre\, 57 Vauxhall Bridge Road\, London\, SW!V 2LF
END:VEVENT
END:VCALENDAR