BEGIN:VCALENDAR
VERSION:2.0
PRODID:-//https://www.londonwomenchess.org.uk - ECPv6.15.20//NONSGML v1.0//EN
CALSCALE:GREGORIAN
METHOD:PUBLISH
X-WR-CALNAME:https://www.londonwomenchess.org.uk
X-ORIGINAL-URL:https://www.londonwomenchess.org.uk
X-WR-CALDESC:Events for https://www.londonwomenchess.org.uk
REFRESH-INTERVAL;VALUE=DURATION:PT1H
X-Robots-Tag:noindex
X-PUBLISHED-TTL:PT1H
BEGIN:VTIMEZONE
TZID:Europe/London
BEGIN:DAYLIGHT
TZOFFSETFROM:+0000
TZOFFSETTO:+0100
TZNAME:BST
DTSTART:20230326T010000
END:DAYLIGHT
BEGIN:STANDARD
TZOFFSETFROM:+0100
TZOFFSETTO:+0000
TZNAME:GMT
DTSTART:20231029T010000
END:STANDARD
BEGIN:DAYLIGHT
TZOFFSETFROM:+0000
TZOFFSETTO:+0100
TZNAME:BST
DTSTART:20240331T010000
END:DAYLIGHT
BEGIN:STANDARD
TZOFFSETFROM:+0100
TZOFFSETTO:+0000
TZNAME:GMT
DTSTART:20241027T010000
END:STANDARD
BEGIN:DAYLIGHT
TZOFFSETFROM:+0000
TZOFFSETTO:+0100
TZNAME:BST
DTSTART:20250330T010000
END:DAYLIGHT
BEGIN:STANDARD
TZOFFSETFROM:+0100
TZOFFSETTO:+0000
TZNAME:GMT
DTSTART:20251026T010000
END:STANDARD
END:VTIMEZONE
BEGIN:VEVENT
DTSTART;TZID=Europe/London:20241123T090000
DTEND;TZID=Europe/London:20241123T170000
DTSTAMP:20260423T172036
CREATED:20240921T212712Z
LAST-MODIFIED:20240921T215151Z
UID:1865-1732352400-1732381200@www.londonwomenchess.org.uk
SUMMARY:Women FIDE Rapid Tournament - Match 2
DESCRIPTION:5 rounds of 25 minutes 10 seconds increment (FIDE & ECF rated) Open\, Under 1900 and Under 1600 \n\n\n\nRegistration Form
URL:https://www.londonwomenchess.org.uk/event/women-fide-rapid-tournament-match-2/
CATEGORIES:Chess Club
ATTACH;FMTTYPE=image/jpeg:https://usercontent.one/wp/www.londonwomenchess.org.uk/wp-content/uploads/2024/08/IMG_2590.jpeg
END:VEVENT
END:VCALENDAR